BEGIN:VCALENDAR
VERSION:2.0
PRODID:-//Gaia Community - ECPv6.15.20//NONSGML v1.0//EN
CALSCALE:GREGORIAN
METHOD:PUBLISH
X-ORIGINAL-URL:https://gaiacommunity.org
X-WR-CALDESC:Events for Gaia Community
REFRESH-INTERVAL;VALUE=DURATION:PT1H
X-Robots-Tag:noindex
X-PUBLISHED-TTL:PT1H
BEGIN:VTIMEZONE
TZID:America/Chicago
BEGIN:DAYLIGHT
TZOFFSETFROM:-0600
TZOFFSETTO:-0500
TZNAME:CDT
DTSTART:20240310T080000
END:DAYLIGHT
BEGIN:STANDARD
TZOFFSETFROM:-0500
TZOFFSETTO:-0600
TZNAME:CST
DTSTART:20241103T070000
END:STANDARD
BEGIN:DAYLIGHT
TZOFFSETFROM:-0600
TZOFFSETTO:-0500
TZNAME:CDT
DTSTART:20250309T080000
END:DAYLIGHT
BEGIN:STANDARD
TZOFFSETFROM:-0500
TZOFFSETTO:-0600
TZNAME:CST
DTSTART:20251102T070000
END:STANDARD
BEGIN:DAYLIGHT
TZOFFSETFROM:-0600
TZOFFSETTO:-0500
TZNAME:CDT
DTSTART:20260308T080000
END:DAYLIGHT
BEGIN:STANDARD
TZOFFSETFROM:-0500
TZOFFSETTO:-0600
TZNAME:CST
DTSTART:20261101T070000
END:STANDARD
END:VTIMEZONE
BEGIN:VEVENT
DTSTART;TZID=America/Chicago:20250907T153000
DTEND;TZID=America/Chicago:20250907T180000
DTSTAMP:20260422T235840
CREATED:20250723T005504Z
LAST-MODIFIED:20250901T223122Z
UID:3443-1757259000-1757268000@gaiacommunity.org
SUMMARY:Forum: Co-Housing and Intentional Community
DESCRIPTION:Join us for a brief class on intentional community followed by a discussion of pros and cons of communal living. \nJoin Zoom Meeting\nhttps://us02web.zoom.us/j/87953686684?pwd=TSAa57G7abMDERy0OKgb40zLGJH8a1.1
URL:https://gaiacommunity.org/event/forum-co-housing-and-intentional-community/
LOCATION:KS
END:VEVENT
BEGIN:VEVENT
DTSTART;TZID=America/Chicago:20250909T190000
DTEND;TZID=America/Chicago:20250909T210000
DTSTAMP:20260422T235840
CREATED:20250805T191804Z
LAST-MODIFIED:20250819T152504Z
UID:3481-1757444400-1757451600@gaiacommunity.org
SUMMARY:Social Justice Meeting
DESCRIPTION:Social Justice meets to discuss possible service projects. We meet online only \nJoin Zoom Meeting\nhttps://us02web.zoom.us/j/89256215132?pwd=FR564R3EuBeZjJXdIiJS0vB6GKLtQC.1 \n 
URL:https://gaiacommunity.org/event/social-justice-meeting-9/
LOCATION:KS
END:VEVENT
BEGIN:VEVENT
DTSTART;TZID=America/Chicago:20250913T100000
DTEND;TZID=America/Chicago:20250913T193000
DTSTAMP:20260422T235840
CREATED:20250723T011945Z
LAST-MODIFIED:20250908T230516Z
UID:3445-1757757600-1757791800@gaiacommunity.org
SUMMARY:Pagan Pride Day
DESCRIPTION:Join pagans around Kansas City for a day of workshops\, music\, camaraderie\, local artisan booths\, information booths\, and body workers/readers. Gaia Community will have an info booth and will present a community-building ritual at 1:15 PM. \n  \nKC Pagan Pride Day. Gaia will be putting on one ritual.
URL:https://gaiacommunity.org/event/pagan-pride-day/
LOCATION:Macken Park\, 1002 Clark Ferguson Dr\, North Kansas City\, MO\, 64116\, United States
END:VEVENT
BEGIN:VEVENT
DTSTART;TZID=America/Chicago:20250914T153000
DTEND;TZID=America/Chicago:20250914T180000
DTSTAMP:20260422T235840
CREATED:20250723T012612Z
LAST-MODIFIED:20250901T223315Z
UID:3448-1757863800-1757872800@gaiacommunity.org
SUMMARY:Workshop: Iynx Wheel
DESCRIPTION:The iynx wheel\, sometimes called a strophalos or whirligig\, has millenia of history as a child’s toy\, a sorcerer’s magical tool\, and as the original witches’ “jinx”. Join us in making your own and learning about how this simple spinning disc can be used in ritual and magical practice.  If you are attending in person\, all materials will be provided\, but if you have a particular image you’d like to draw or paint you might wish to bring a reference image.  If you are attending online\, you will need a round wooden or cardboard disk with holes drilled like in the linked example\, some sturdy string\, and paint or markers to decorate the disc. \nJoin Zoom Meeting\nhttps://us02web.zoom.us/j/81502670327?pwd=7fntIxNVIYaqxlRaKVq27xmBfcgSWH.1
URL:https://gaiacommunity.org/event/workshop-hekate-vibes/
LOCATION:KS
END:VEVENT
BEGIN:VEVENT
DTSTART;TZID=America/Chicago:20250920T100000
DTEND;TZID=America/Chicago:20250920T120000
DTSTAMP:20260422T235840
CREATED:20250805T192657Z
LAST-MODIFIED:20250819T154313Z
UID:3487-1758362400-1758369600@gaiacommunity.org
SUMMARY:Ritual for Business
DESCRIPTION:Our congregation’s monthly business meeting. Anyone may attend\, but only full active members may participate in the consensus process. Online only. \nJoin Zoom Meeting\nhttps://us02web.zoom.us/j/85491815372?pwd=eI3Chx89JoXbawlbGQJtsnUwUyi9lb.1
URL:https://gaiacommunity.org/event/ritual-for-business-7/
LOCATION:KS
END:VEVENT
BEGIN:VEVENT
DTSTART;TZID=America/Chicago:20250921T153000
DTEND;TZID=America/Chicago:20250921T180000
DTSTAMP:20260422T235840
CREATED:20250805T183225Z
LAST-MODIFIED:20250908T225717Z
UID:3458-1758468600-1758477600@gaiacommunity.org
SUMMARY:High Holiday: Autumn Equinox
DESCRIPTION:Join us to turn the Wheel of the Year and celebrate Fall Equinox\, the second harvest\, also the time of year when Persephone packs her bags and heads to the Underworld. \nWhere is your deep gladness? At this Equinox\, as Persephone returns to the Underworld\, we will explore new ways of looking at the ancient myth\, and where we may find vocation during troubled times. \nAll monetary donations collected this day will go to the Osage Nation. \nJoin Zoom Meeting\nhttps://us02web.zoom.us/j/82280224299?pwd=GT2mz3tvYpiI3auN2AhGMwbasKRByE.1 \n 
URL:https://gaiacommunity.org/event/high-holiday-autumn-equinox/
LOCATION:KS
END:VEVENT
BEGIN:VEVENT
DTSTART;TZID=America/Chicago:20250928T153000
DTEND;TZID=America/Chicago:20250928T180000
DTSTAMP:20260422T235840
CREATED:20250805T183630Z
LAST-MODIFIED:20250928T182307Z
UID:3460-1759073400-1759082400@gaiacommunity.org
SUMMARY:Ritual: Powers of the Moon
DESCRIPTION:Image courtesy of Johnson County Community College.\nWe’ll explore the powers of the different phases of the moon and seek the assistance of the goddesses associated with them — Artemis\, Selene\, and Hekate. Our work this day will be focused on some kind of short-term project that might be able to be completed or substantially begun in a lunar month (28 days). \nIf you will be joining online you will find it useful to have a chalice candle\, something easy to write with\, and a comfortable place to sit or lie down / rest for a partially meditative experience. You may also want a small bowl of salt water or another favorite way to purify. \nZoom Meeting link: https://us02web.zoom.us/j/81855902837?pwd=QhuRguYzNy0sJAH0RQPs50bjVLMuZR.1 \nFiles for Zoomies:\n\nPowers of the Moon question booklet (print double-sided\, flip on short edge\, then cut into 1/4 sheet and punch on the left side if you would like to string it into a booklet)\nIncidental music (“Cití na gCumann” or “Kitty\, my Darling” by Dirk Freymuth for Lifescapes\, 1997):https://gaiacommunity.org/wp-content/uploads/2025/09/Citi-na-gCumann-low.mp3\nHigh resolution OGG file available if your computer supports it.\nMeditation audio for online folks (to replay later\, will be played during ritual) 
URL:https://gaiacommunity.org/event/ritual-moon-goddesses/
LOCATION:Shawnee Mission UU Church\, 94000 Pflumm Rd.\, Lenexa\, KS\, 66215\, United States
END:VEVENT
BEGIN:VEVENT
DTSTART;TZID=America/Chicago:20251002T190000
DTEND;TZID=America/Chicago:20251002T210000
DTSTAMP:20260422T235840
CREATED:20250923T195339Z
LAST-MODIFIED:20250923T195339Z
UID:3527-1759431600-1759438800@gaiacommunity.org
SUMMARY:Ritual Team Meeting
DESCRIPTION:Our monthly meeting for the team that organizes our Sunday services. Anyone may attend. \nJoin Zoom Meeting\nhttps://us02web.zoom.us/j/4449994327
URL:https://gaiacommunity.org/event/ritual-team-meeting-2/
LOCATION:KS
END:VEVENT
BEGIN:VEVENT
DTSTART;TZID=America/Chicago:20251003T080000
DTEND;TZID=America/Chicago:20251003T170000
DTSTAMP:20260422T235840
CREATED:20251003T160219Z
LAST-MODIFIED:20251003T160219Z
UID:3585-1759478400-1759510800@gaiacommunity.org
SUMMARY:Ritual for Business
DESCRIPTION:This is Gaia’s monthly business meeting. All are welcome to attend. Only pledging members can participate in consensus. \nJoin Zoom Meeting\nhttps://us02web.zoom.us/j/85491815372?pwd=eI3Chx89JoXbawlbGQJtsnUwUyi9lb.1
URL:https://gaiacommunity.org/event/ritual-for-business-9/
LOCATION:KS
END:VEVENT
BEGIN:VEVENT
DTSTART;TZID=America/Chicago:20251005T153000
DTEND;TZID=America/Chicago:20251005T180000
DTSTAMP:20260422T235840
CREATED:20250805T183905Z
LAST-MODIFIED:20250926T021751Z
UID:3462-1759678200-1759687200@gaiacommunity.org
SUMMARY:Forum: They Think We're Demons
DESCRIPTION:Have you had direct encounters with people who have deeply fearful views of your faith path\, religious convictions\, or political views?  Any ideas on how to counteract or refute these views in a way that could foster more understanding and less fear? This is an opportunity to share your experiences and your ideas. \nJoin Zoom Meeting\nhttps://us02web.zoom.us/j/81855902837?pwd=QhuRguYzNy0sJAH0RQPs50bjVLMuZR.1 \n 
URL:https://gaiacommunity.org/event/forum-hekate-vibes/
LOCATION:Shawnee Mission UU Church\, 94000 Pflumm Rd.\, Lenexa\, KS\, 66215\, United States
END:VEVENT
BEGIN:VEVENT
DTSTART;TZID=America/Chicago:20251012T153000
DTEND;TZID=America/Chicago:20251012T180000
DTSTAMP:20260422T235840
CREATED:20250805T185059Z
LAST-MODIFIED:20250926T021735Z
UID:3473-1760283000-1760292000@gaiacommunity.org
SUMMARY:Ritual for Athena (New Member Sunday)
DESCRIPTION:Athena was one of the runner-ups in this year’s God Selection process. We will work with developing a strategy to complete a project.  This project may be self-improvement\, a life task needing to be completed\, an art project\, or maybe a social justice commitment. Bring your personal divination method. If you do not do divination for yourself\, we have guides to help.\n\n\nIt’s also new member Sunday. Come welcome new members to the community!\n\nJoin Zoom Meeting\nhttps://us02web.zoom.us/j/87416391297?pwd=RrGpavr0wCWEGj3A4UBP4b6ubYl5Jz.1 \n  \n 
URL:https://gaiacommunity.org/event/ritual-for-athena-new-member-sunday/
LOCATION:Shawnee Mission UU Church\, 94000 Pflumm Rd.\, Lenexa\, KS\, 66215\, United States
END:VEVENT
BEGIN:VEVENT
DTSTART;TZID=America/Chicago:20251014T190000
DTEND;TZID=America/Chicago:20251014T210000
DTSTAMP:20260422T235840
CREATED:20250805T192111Z
LAST-MODIFIED:20250819T154018Z
UID:3483-1760468400-1760475600@gaiacommunity.org
SUMMARY:Social Justice Meeting
DESCRIPTION:Social Justice meets to discuss possible service projects. We meet online only \nJoin Zoom Meeting\nhttps://us02web.zoom.us/j/89256215132?pwd=FR564R3EuBeZjJXdIiJS0vB6GKLtQC.1 \n  \n 
URL:https://gaiacommunity.org/event/social-justice-meeting-15/
LOCATION:KS
END:VEVENT
BEGIN:VEVENT
DTSTART;TZID=America/Chicago:20251018T100000
DTEND;TZID=America/Chicago:20251018T120000
DTSTAMP:20260422T235840
CREATED:20250805T191001Z
LAST-MODIFIED:20250819T153956Z
UID:3479-1760781600-1760788800@gaiacommunity.org
SUMMARY:Ritual for Business -- Online Only
DESCRIPTION:Our congregation’s monthly business meeting. Anyone may attend\, but only full active members may participate in the consensus process. \nJoin Zoom Meeting\nhttps://us02web.zoom.us/j/85491815372?pwd=eI3Chx89JoXbawlbGQJtsnUwUyi9lb.1 \n  \n 
URL:https://gaiacommunity.org/event/ritual-for-business-online-only/
LOCATION:KS
END:VEVENT
BEGIN:VEVENT
DTSTART;TZID=America/Chicago:20251019T153000
DTEND;TZID=America/Chicago:20251019T180000
DTSTAMP:20260422T235840
CREATED:20250805T185740Z
LAST-MODIFIED:20250926T021649Z
UID:3475-1760887800-1760896800@gaiacommunity.org
SUMMARY:Workshop: Candle-making
DESCRIPTION:Join us for an opportunity to create your own candles. If you have a small or medium-sized clean container you’d like to pour into\, please bring it. \nJoin Zoom Meeting\nhttps://us02web.zoom.us/j/84817881561?pwd=YGczYSWNO4EUS1m83ujOmoLMUncJ7u.1 \n  \n 
URL:https://gaiacommunity.org/event/workshop-candle-making/
LOCATION:Shawnee Mission UU Church\, 94000 Pflumm Rd.\, Lenexa\, KS\, 66215\, United States
END:VEVENT
BEGIN:VEVENT
DTSTART;TZID=America/Chicago:20251026T153000
DTEND;TZID=America/Chicago:20251026T180000
DTSTAMP:20260422T235840
CREATED:20250805T190402Z
LAST-MODIFIED:20250926T021720Z
UID:3477-1761492600-1761501600@gaiacommunity.org
SUMMARY:Samhain
DESCRIPTION:More info to come! \nJoin Zoom Meeting\nhttps://us02web.zoom.us/j/85204859410?pwd=6qmQ5mZypCPomUzFmoVVpag5WXsjJ3.1 \n 
URL:https://gaiacommunity.org/event/samhain/
LOCATION:Shawnee Mission UU Church\, 94000 Pflumm Rd.\, Lenexa\, KS\, 66215\, United States
END:VEVENT
BEGIN:VEVENT
DTSTART;TZID=America/Chicago:20251102T153000
DTEND;TZID=America/Chicago:20251102T180000
DTSTAMP:20260422T235840
CREATED:20251003T143425Z
LAST-MODIFIED:20251024T150105Z
UID:3554-1762097400-1762106400@gaiacommunity.org
SUMMARY:Workshop: Election Magic
DESCRIPTION:Join us on Sunday November 2nd as we create a poppet\, a three-dimensional symbol representing our hopes for the future of our democracy\, beginning with the upcoming elections on November 4th.  We invite you to bring small items of magical import that you would like to contribute\, representing your fondest dreams for the well-being of our nation. (We will supply some small charms\, beads\, etc. as well.) This could include herbs\, minerals\, natural objects\, tokens or symbols of what you wish for the United States and our fellow citizens. We will assemble these items with our intentions and charge the result with the energy of our hope.  People joining online may want to prepare a smaller poppet with your own items\, and/or contribute to the communal one by sending wishes in words that we will write down and add to the assemblage. \nJoin Zoom\nhttps://us02web.zoom.us/meetings/86183249951/invitations?signature=oPHI3TnHeVRyhtBBNVhsnmUsAt6o_7elhVSON7agr2U
URL:https://gaiacommunity.org/event/workshop-election-magic/
LOCATION:Shawnee Mission UU Church\, 94000 Pflumm Rd.\, Lenexa\, KS\, 66215\, United States
END:VEVENT
BEGIN:VEVENT
DTSTART;TZID=America/Chicago:20251107T190000
DTEND;TZID=America/Chicago:20251107T210000
DTSTAMP:20260422T235840
CREATED:20251003T181852Z
LAST-MODIFIED:20251003T181852Z
UID:3607-1762542000-1762549200@gaiacommunity.org
SUMMARY:Ritual Team Meeting
DESCRIPTION:Our monthly meeting for the team that organizes our Sunday services. Anyone may attend. \nJoin Zoom Meeting\nhttps://us02web.zoom.us/j/4449994327
URL:https://gaiacommunity.org/event/ritual-team-meeting-3/
LOCATION:KS
END:VEVENT
BEGIN:VEVENT
DTSTART;TZID=America/Chicago:20251109T153000
DTEND;TZID=America/Chicago:20251109T180000
DTSTAMP:20260422T235840
CREATED:20251003T145413Z
LAST-MODIFIED:20251108T035330Z
UID:3557-1762702200-1762711200@gaiacommunity.org
SUMMARY:Ritual: Covered by the White Lion of the Moon
DESCRIPTION:Join us for a Kemetic-inspired ritual where we will\njourney to meet protective Lunar spirits in the retinue of\nKhonsu. We will make amulets to protect every part of the Self\, which the Egyptians understood to be composed of many spiritual parts working in harmony. \nIf you are joining us online\, you may wish to have: a candle to represent Hekate’s lantern\, a white or silver candle to represent Khonsu\, a small bowl of water with a pinch of salt and baking soda stirred in\, a pinch of powdered cinnamon\, a pen\, some white or silver thread or narrow ribbon\, and a cookie or snack to share with the deity. You will also need to print and cut out the amulet parts in this file. \nJoin Zoom Meeting\nhttps://us02web.zoom.us/j/86544916418?pwd=n56bd0yQGTKG2KxiW8R3XpQHGSuhKX.1 \n 
URL:https://gaiacommunity.org/event/ritual-covered-by-the-white-lion-of-the-moon/
LOCATION:Shawnee Mission UU Church\, 94000 Pflumm Rd.\, Lenexa\, KS\, 66215\, United States
END:VEVENT
BEGIN:VEVENT
DTSTART;TZID=America/Chicago:20251111T190000
DTEND;TZID=America/Chicago:20251111T210000
DTSTAMP:20260422T235840
CREATED:20251003T150725Z
LAST-MODIFIED:20251003T154612Z
UID:3564-1762887600-1762894800@gaiacommunity.org
SUMMARY:Social Justice Meeting
DESCRIPTION:Social Justice meets to discuss possible service projects. We meet online only \nJoin Zoom Meeting\nhttps://us02web.zoom.us/j/89256215132?pwd=FR564R3EuBeZjJXdIiJS0vB6GKLtQC.1
URL:https://gaiacommunity.org/event/social-justice-meeting-online/
LOCATION:KS
END:VEVENT
BEGIN:VEVENT
DTSTART;TZID=America/Chicago:20251115T100000
DTEND;TZID=America/Chicago:20251115T120000
DTSTAMP:20260422T235840
CREATED:20251003T150920Z
LAST-MODIFIED:20251003T150935Z
UID:3566-1763200800-1763208000@gaiacommunity.org
SUMMARY:Ritual for Business Online
DESCRIPTION:Our congregation’s monthly business meeting. Anyone may attend\, but only full active members may participate in the consensus process. \nJoin Zoom Meeting\nhttps://us02web.zoom.us/j/85491815372?pwd=eI3Chx89JoXbawlbGQJtsnUwUyi9lb.1
URL:https://gaiacommunity.org/event/ritual-for-business-8/
LOCATION:KS
END:VEVENT
BEGIN:VEVENT
DTSTART;TZID=America/Chicago:20251116T153000
DTEND;TZID=America/Chicago:20251116T180000
DTSTAMP:20260422T235840
CREATED:20251003T150152Z
LAST-MODIFIED:20251115T204810Z
UID:3560-1763307000-1763316000@gaiacommunity.org
SUMMARY:Ritual: Hekate's Night
DESCRIPTION:A modern Hekatean festival celebrating Hekate’s aspects as Teacher of Witchcraft\, Chainbreaker\, Curselifter\, and Opener of the Ways. Join us as we learn and practice several magical arts of banishing to shake off bad vibes and clear the way to good outcomes. \nIf you will be joining us online\, you may want to have with you: a chalice candle\, a candle for Hekate\, a raw egg\, salt and water for handwashing\, scissors or a small knife\, cotton thread or string\, a key (could be a key you use in everyday life)\, pen and paper\, and a copy of these instructions to follow along with. \nJoin Zoom Meeting\nhttps://us02web.zoom.us/j/83110658038?pwd=jDOcjidVGfjhAIH91avinsD5iJTmUU.1 \n 
URL:https://gaiacommunity.org/event/ritual-hekates-night/
LOCATION:Shawnee Mission UU Church\, 94000 Pflumm Rd.\, Lenexa\, KS\, 66215\, United States
END:VEVENT
BEGIN:VEVENT
DTSTART;TZID=America/Chicago:20251123T153000
DTEND;TZID=America/Chicago:20251123T180000
DTSTAMP:20260422T235840
CREATED:20251003T151505Z
LAST-MODIFIED:20251106T183022Z
UID:3569-1763911800-1763920800@gaiacommunity.org
SUMMARY:Forum: Gratitude
DESCRIPTION:The Thanksgiving season can be a complicated one\, navigating our relationship with food\, family\, and the land we live on. What is the relationship we have with the idea of Gratitude today\, what was it like growing up\, and how would we like to come into a grounded and sacred understanding of it in the future? This is an opportunity to share your experiences and your ideas. \nJoin Zoom Meeting\nhttps://us02web.zoom.us/j/86460346771?pwd=V9oDp8YKtKuvjnRqDLh7nPue97Xi7F.1
URL:https://gaiacommunity.org/event/forum-gratitude/
LOCATION:Shawnee Mission UU Church\, 94000 Pflumm Rd.\, Lenexa\, KS\, 66215\, United States
END:VEVENT
BEGIN:VEVENT
DTSTART;TZID=America/Chicago:20251130T153000
DTEND;TZID=America/Chicago:20251130T180000
DTSTAMP:20260422T235840
CREATED:20251003T153417Z
LAST-MODIFIED:20251106T183114Z
UID:3571-1764516600-1764525600@gaiacommunity.org
SUMMARY:Thanksgiving SOS
DESCRIPTION:SOS stands for Sharing Our Spirits. The ritual is created in real time by those who attend. Bring your ideas or any tools (drums\, divination\, ritual tools) you would like to use. Come be a part of spontaneous magic designed to truly meet the moment. \nJoin Zoom Meeting\nhttps://us02web.zoom.us/j/89887842782?pwd=6zEZeoqJodXGepm8A24JKy3nxlva9I.1
URL:https://gaiacommunity.org/event/thanksgiving-sos/
LOCATION:Shawnee Mission UU Church\, 94000 Pflumm Rd.\, Lenexa\, KS\, 66215\, United States
END:VEVENT
BEGIN:VEVENT
DTSTART;TZID=America/Chicago:20251202T190000
DTEND;TZID=America/Chicago:20251202T210000
DTSTAMP:20260422T235840
CREATED:20251003T182014Z
LAST-MODIFIED:20251003T182014Z
UID:3609-1764702000-1764709200@gaiacommunity.org
SUMMARY:Ritual Team Meeting
DESCRIPTION:Our monthly meeting for the team that organizes our Sunday services. Anyone may attend. \nJoin Zoom Meeting\nhttps://us02web.zoom.us/j/4449994327
URL:https://gaiacommunity.org/event/ritual-team-meeting-4/
LOCATION:KS
END:VEVENT
BEGIN:VEVENT
DTSTART;TZID=America/Chicago:20251207T153000
DTEND;TZID=America/Chicago:20251207T180000
DTSTAMP:20260422T235840
CREATED:20251003T155136Z
LAST-MODIFIED:20251202T011435Z
UID:3581-1765121400-1765130400@gaiacommunity.org
SUMMARY:Ritual: Blessing the Warming Shelter
DESCRIPTION:Project 10❤️20 is Johnson County’s *only* no barrier shelter and case management service for adults who are experiencing homelessness. It is open between 6 pm – 8 am\, Dec 1st through March 31st and is co-located where we meet. Our ritual will focus on supporting the shelter and its occupants physically and energetically. \nPlease bring warm clothing to donate: hats\, gloves\, scarves\, blankets\, coats\, etc. to be blessed as well during ritual. \nJoin Zoom Meeting\nhttps://us02web.zoom.us/j/89788014777?pwd=58b4XA06vRUAjk2jz9Ip1XIPq7y8Kb.1
URL:https://gaiacommunity.org/event/ritual-blessing-the-warming-shelter/
LOCATION:Shawnee Mission UU Church\, 94000 Pflumm Rd.\, Lenexa\, KS\, 66215\, United States
END:VEVENT
BEGIN:VEVENT
DTSTART;TZID=America/Chicago:20251209T190000
DTEND;TZID=America/Chicago:20251209T210000
DTSTAMP:20260422T235840
CREATED:20251003T153826Z
LAST-MODIFIED:20251003T153826Z
UID:3573-1765306800-1765314000@gaiacommunity.org
SUMMARY:Social Justice Meeting
DESCRIPTION:Social Justice meets to discuss possible service projects. We meet online only. \nJoin Zoom Meeting\nhttps://us02web.zoom.us/j/89256215132?pwd=FR564R3EuBeZjJXdIiJS0vB6GKLtQC.1
URL:https://gaiacommunity.org/event/social-justice-meeting-10/
LOCATION:KS
END:VEVENT
BEGIN:VEVENT
DTSTART;TZID=America/Chicago:20251214T153000
DTEND;TZID=America/Chicago:20251214T180000
DTSTAMP:20260422T235840
CREATED:20251003T155716Z
LAST-MODIFIED:20251202T013130Z
UID:3583-1765726200-1765735200@gaiacommunity.org
SUMMARY:Workshop: House Wards and Blessings
DESCRIPTION:We’ll explore some of the ways you can make items to protect and bless your dwelling. \nJoin Zoom Meeting\nhttps://us02web.zoom.us/j/81577315397?pwd=XClRgVJfAqazZh8ahV7Ym7Y7ssdb1M.1 \n 
URL:https://gaiacommunity.org/event/workshop-house-wards-and-blessings/
LOCATION:Shawnee Mission UU Church\, 94000 Pflumm Rd.\, Lenexa\, KS\, 66215\, United States
END:VEVENT
BEGIN:VEVENT
DTSTART;TZID=America/Chicago:20251220T100000
DTEND;TZID=America/Chicago:20251220T120000
DTSTAMP:20260422T235840
CREATED:20251003T175444Z
LAST-MODIFIED:20251003T175444Z
UID:2484-1766224800-1766232000@gaiacommunity.org
SUMMARY:Ritual for Business
DESCRIPTION:Our congregation’s monthly business meeting. Anyone may attend\, but only full active members may participate in the consensus process. \nJoin Zoom Meeting\nhttps://us02web.zoom.us/j/85491815372?pwd=eI3Chx89JoXbawlbGQJtsnUwUyi9lb.1
URL:https://gaiacommunity.org/event/ritual-for-business-10/
LOCATION:Zoom
END:VEVENT
BEGIN:VEVENT
DTSTART;TZID=America/Chicago:20251221T153000
DTEND;TZID=America/Chicago:20251221T180000
DTSTAMP:20260422T235840
CREATED:20251003T161056Z
LAST-MODIFIED:20251202T013635Z
UID:3587-1766331000-1766340000@gaiacommunity.org
SUMMARY:Ritual: Winter Solstice - Nine Brazen Bells
DESCRIPTION:Nine brazen bells will ring. On a silver tree whose branches sing. Spin the wyrding web times three\, and muses come to me. Come find the blessing of inspiration in a magical Otherworld solstice. \nJoin Zoom Meeting: \nhttps://us02web.zoom.us/j/86936017666?pwd=FoOagZf8NUJ6TBnMV0p2ZBIBKedga0.1
URL:https://gaiacommunity.org/event/ritual-winter-solstice-nine-brazen-bells/
LOCATION:Shawnee Mission UU Church\, 94000 Pflumm Rd.\, Lenexa\, KS\, 66215\, United States
END:VEVENT
BEGIN:VEVENT
DTSTART;TZID=America/Chicago:20251228T153000
DTEND;TZID=America/Chicago:20251228T180000
DTSTAMP:20260422T235840
CREATED:20251003T162325Z
LAST-MODIFIED:20251003T162325Z
UID:3589-1766935800-1766944800@gaiacommunity.org
SUMMARY:Class/Workshop: Loving-Kindness
DESCRIPTION:Metta\, loving-kindness practice\, originates with  Buddhism as a way to spread love within others and yourself. Come learn how to perform this ancient practice to bring more love to the world. \nJoin Zoom Meeting\nhttps://us02web.zoom.us/j/87053378033?pwd=O2dd29vbqpdSwaUOHcxyW9x6ZDoneF.1
URL:https://gaiacommunity.org/event/class-workshop-loving-kindness/
LOCATION:Shawnee Mission UU Church\, 94000 Pflumm Rd.\, Lenexa\, KS\, 66215\, United States
END:VEVENT
END:VCALENDAR