BEGIN:VCALENDAR
VERSION:2.0
PRODID:-//Gaia Community - ECPv6.15.20//NONSGML v1.0//EN
CALSCALE:GREGORIAN
METHOD:PUBLISH
X-WR-CALNAME:Gaia Community
X-ORIGINAL-URL:https://gaiacommunity.org
X-WR-CALDESC:Events for Gaia Community
REFRESH-INTERVAL;VALUE=DURATION:PT1H
X-Robots-Tag:noindex
X-PUBLISHED-TTL:PT1H
BEGIN:VTIMEZONE
TZID:America/Chicago
BEGIN:DAYLIGHT
TZOFFSETFROM:-0600
TZOFFSETTO:-0500
TZNAME:CDT
DTSTART:20240310T080000
END:DAYLIGHT
BEGIN:STANDARD
TZOFFSETFROM:-0500
TZOFFSETTO:-0600
TZNAME:CST
DTSTART:20241103T070000
END:STANDARD
BEGIN:DAYLIGHT
TZOFFSETFROM:-0600
TZOFFSETTO:-0500
TZNAME:CDT
DTSTART:20250309T080000
END:DAYLIGHT
BEGIN:STANDARD
TZOFFSETFROM:-0500
TZOFFSETTO:-0600
TZNAME:CST
DTSTART:20251102T070000
END:STANDARD
BEGIN:DAYLIGHT
TZOFFSETFROM:-0600
TZOFFSETTO:-0500
TZNAME:CDT
DTSTART:20260308T080000
END:DAYLIGHT
BEGIN:STANDARD
TZOFFSETFROM:-0500
TZOFFSETTO:-0600
TZNAME:CST
DTSTART:20261101T070000
END:STANDARD
BEGIN:DAYLIGHT
TZOFFSETFROM:-0600
TZOFFSETTO:-0500
TZNAME:CDT
DTSTART:20270314T080000
END:DAYLIGHT
BEGIN:STANDARD
TZOFFSETFROM:-0500
TZOFFSETTO:-0600
TZNAME:CST
DTSTART:20271107T070000
END:STANDARD
END:VTIMEZONE
BEGIN:VEVENT
DTSTART;TZID=America/Chicago:20260322T153000
DTEND;TZID=America/Chicago:20260322T180000
DTSTAMP:20260422T174630
CREATED:20260203T015804Z
LAST-MODIFIED:20260313T004644Z
UID:3673-1774193400-1774202400@gaiacommunity.org
SUMMARY:High Holiday: Spring Equinox
DESCRIPTION:For Spring Equinox\, we will be setting goals\, planting both seeds and intentions for the Spring season. If you have seeds you want to bring to be planted in company\, please bring them  After the ritual\, we will then take them home to cherish before planting in our own gardens or someplace near that you can watch over. We will honor both Ganesha and Persephone during this time\, and of course\, our patron Hecate. Please bring your choice of divinatory tools\, and journaling materials. \nFor our Zoom participants\, you might want to have cardboard egg cartons or empty TP rolls for planting\, some potting soil and/or mulch\, seeds\, and your divinatory choice and a journal. We will be having cakes and ale at the end so you might want to plan on a treat for yourself. We will celebrate the beginning of Spring! \nJoin Zoom Meeting\nhttps://us02web.zoom.us/j/83899677573?pwd=qG0TnZj4nouSrBoPzVRDdXiLI5GM8b.1 \n 
URL:https://gaiacommunity.org/event/high-holiday-spring-equinox/
LOCATION:Shawnee Mission UU Church\, 94000 Pflumm Rd.\, Lenexa\, KS\, 66215\, United States
END:VEVENT
BEGIN:VEVENT
DTSTART;TZID=America/Chicago:20260321T100000
DTEND;TZID=America/Chicago:20260321T120000
DTSTAMP:20260422T174630
CREATED:20260204T223436Z
LAST-MODIFIED:20260204T223436Z
UID:3703-1774087200-1774094400@gaiacommunity.org
SUMMARY:Ritual for Business
DESCRIPTION:Our congregation’s monthly business meeting. Anyone may attend\, but only full active members may participate in the consensus process. \nJoin Zoom Meeting\nhttps://us02web.zoom.us/j/85491815372?pwd=eI3Chx89JoXbawlbGQJtsnUwUyi9lb.1
URL:https://gaiacommunity.org/event/ritual-for-business-14/
LOCATION:Zoom
END:VEVENT
BEGIN:VEVENT
DTSTART;TZID=America/Chicago:20260315T153000
DTEND;TZID=America/Chicago:20260315T180000
DTSTAMP:20260422T174630
CREATED:20260203T014755Z
LAST-MODIFIED:20260315T180649Z
UID:3668-1773588600-1773597600@gaiacommunity.org
SUMMARY:Patron Selection Festival Forum
DESCRIPTION:Each year Gaia Community chooses a patron for the year. The process\nbegins with this forum where those present review and discern the needs of\nour community and then suggest powers who might serve those needs.\nCome be part of this important process! \nTHIS EVENT IS ONLINE ONLY DUE TO INCLEMENT WEATHER: \nJoin Zoom Meeting\nhttps://us02web.zoom.us/j/89571709746?pwd=1h5E1elCMh2Kx8adVbcarv2W14hiYg.1 \n 
URL:https://gaiacommunity.org/event/forum-patron-nominations/
LOCATION:Shawnee Mission UU Church\, 94000 Pflumm Rd.\, Lenexa\, KS\, 66215\, United States
END:VEVENT
BEGIN:VEVENT
DTSTART;TZID=America/Chicago:20260310T190000
DTEND;TZID=America/Chicago:20260310T193000
DTSTAMP:20260422T174630
CREATED:20260203T030138Z
LAST-MODIFIED:20260203T030138Z
UID:3699-1773169200-1773171000@gaiacommunity.org
SUMMARY:Social Justice Meeting
DESCRIPTION:Social Justice meets to discuss possible service projects. We meet online only \nJoin Zoom Meeting\nhttps://us02web.zoom.us/j/89256215132?pwd=FR564R3EuBeZjJXdIiJS0vB6GKLtQC.1
URL:https://gaiacommunity.org/event/social-justice-meeting-14/
END:VEVENT
BEGIN:VEVENT
DTSTART;TZID=America/Chicago:20260308T153000
DTEND;TZID=America/Chicago:20260308T180000
DTSTAMP:20260422T174630
CREATED:20260203T014101Z
LAST-MODIFIED:20260210T184754Z
UID:3666-1772983800-1772992800@gaiacommunity.org
SUMMARY:Ritual: Carrying the Ship of Fortune
DESCRIPTION:The ancient Roman holiday\, Navigium Isidis\, launched the sailing season\, asking Isis for blessings of prosperity\, safe travel\, and safe harbor for all for the\ncoming year. Join us as we create our “floats” to launch our hopes in this\nfestival that was an ancestor of Carnival. \nJoin Zoom Meeting\nhttps://us02web.zoom.us/j/81252524937?pwd=N20v3xNw5qnDAHuhV2vVmwhIKYANkm.1 \n 
URL:https://gaiacommunity.org/event/ritual-carrying-the-ship-of-fortune/
LOCATION:Shawnee Mission UU Church\, 94000 Pflumm Rd.\, Lenexa\, KS\, 66215\, United States
END:VEVENT
BEGIN:VEVENT
DTSTART;TZID=America/Chicago:20260305T190000
DTEND;TZID=America/Chicago:20260305T210000
DTSTAMP:20260422T174630
CREATED:20260203T020825Z
LAST-MODIFIED:20260224T222402Z
UID:3677-1772737200-1772744400@gaiacommunity.org
SUMMARY:Ritual Team Meeting
DESCRIPTION:Our monthly meeting for the team that organizes our Sunday services. Anyone may attend. \nJoin Zoom Meeting\nhttps://us02web.zoom.us/j/4449994327
URL:https://gaiacommunity.org/event/ritual-team-meeting-7/
LOCATION:Zoom
END:VEVENT
BEGIN:VEVENT
DTSTART;TZID=America/Chicago:20260301T153000
DTEND;TZID=America/Chicago:20260301T180000
DTSTAMP:20260422T174630
CREATED:20251205T164107Z
LAST-MODIFIED:20260210T184428Z
UID:3637-1772379000-1772388000@gaiacommunity.org
SUMMARY:Forum: Where Are You on Your Spiritual Path
DESCRIPTION:Join us as we discuss our personal spiritual paths – where did\nyou start? What choices have you made? What twists have\nturns have brought you here? Where are you now? Where do\nyou want to go next? \nJoin Zoom Meeting\nhttps://us02web.zoom.us/j/86761563462?pwd=2m3QMJlztyymnGVVgKgV927NbrtARg.1 \n 
URL:https://gaiacommunity.org/event/forum-where-are-you-on-your-spiritual-path/
LOCATION:Shawnee Mission UU Church\, 94000 Pflumm Rd.\, Lenexa\, KS\, 66215\, United States
END:VEVENT
BEGIN:VEVENT
DTSTART;TZID=America/Chicago:20260222T153000
DTEND;TZID=America/Chicago:20260222T180000
DTSTAMP:20260422T174630
CREATED:20260123T021632Z
LAST-MODIFIED:20260222T010107Z
UID:3661-1771774200-1771783200@gaiacommunity.org
SUMMARY:Ritual: Three Labors
DESCRIPTION:This Druid ritual will be done in a cross-cultural Proto-Indo-European framework (PIE)\, as we engage with the very real work of “False Spring”. Exploring in a ritual context the ways in which we often fail…until we win! Please come with an open mind\, comfortable clothes\, and if you have praise offerings you wish to make after the main work of the day is done\, there will be time for those as well. \nFor those joining us remotely\, you will find the following items useful but not  essential to have on hand: a chalice (candle or electric is fine)\, clean water for purification\, praise offerings (optional)\, and something to drink for the return Blessing Cup. To participate in the work of the day\, if you have a large piece of paper (full size 8.5×11 is plenty\, unless you have bigger) and something to write with will be enough. Multiple colors of pens/markers/pencils would be nice but definitely not essential! You can also see attached a cheatsheet of the ritual outline and some words in PIE that you may encounter\, hear\, or be asked to repeat.  \nJoin Zoom Meeting\nhttps://us02web.zoom.us/j/86440396824?pwd=1PkWq20TA4MjGI86FbVWqL83lJGi2C.1 \n 
URL:https://gaiacommunity.org/event/ritual-three-labors/
LOCATION:Shawnee Mission UU Church\, 94000 Pflumm Rd.\, Lenexa\, KS\, 66215\, United States
END:VEVENT
BEGIN:VEVENT
DTSTART;TZID=America/Chicago:20260222T140000
DTEND;TZID=America/Chicago:20260222T160000
DTSTAMP:20260422T174630
CREATED:20260210T185130Z
LAST-MODIFIED:20260210T185130Z
UID:3718-1771768800-1771776000@gaiacommunity.org
SUMMARY:Crafting Circle
DESCRIPTION:Work on a crafting project with other Gaians! Chat and craft in the KidSpace room before the Sunday service.
URL:https://gaiacommunity.org/event/crafting-circle-4/
LOCATION:Shawnee Mission UU Church\, 94000 Pflumm Rd.\, Lenexa\, KS\, 66215\, United States
END:VEVENT
BEGIN:VEVENT
DTSTART;TZID=America/Chicago:20260221T100000
DTEND;TZID=America/Chicago:20260221T120000
DTSTAMP:20260422T174630
CREATED:20260204T223301Z
LAST-MODIFIED:20260204T223301Z
UID:3701-1771668000-1771675200@gaiacommunity.org
SUMMARY:Ritual for Business
DESCRIPTION:Our congregation’s monthly business meeting. Anyone may attend\, but only full active members may participate in the consensus process. \nJoin Zoom Meeting\nhttps://us02web.zoom.us/j/85491815372?pwd=eI3Chx89JoXbawlbGQJtsnUwUyi9lb.1
URL:https://gaiacommunity.org/event/ritual-for-business-11/
LOCATION:Zoom
END:VEVENT
BEGIN:VEVENT
DTSTART;TZID=America/Chicago:20260215T153000
DTEND;TZID=America/Chicago:20260215T180000
DTSTAMP:20260422T174630
CREATED:20251205T163015Z
LAST-MODIFIED:20251205T163015Z
UID:3635-1771169400-1771178400@gaiacommunity.org
SUMMARY:Workshop: Offering Cards
DESCRIPTION:More info to come! \nJoin Zoom Meeting\nhttps://us02web.zoom.us/j/89525948873?pwd=FtSAJPbWypfqphKwwsTsjsJjQQfDvf.1
URL:https://gaiacommunity.org/event/workshop-offering-cards/
LOCATION:Shawnee Mission UU Church\, 94000 Pflumm Rd.\, Lenexa\, KS\, 66215\, United States
END:VEVENT
BEGIN:VEVENT
DTSTART;TZID=America/Chicago:20260210T153000
DTEND;TZID=America/Chicago:20260210T180000
DTSTAMP:20260422T174630
CREATED:20260203T015226Z
LAST-MODIFIED:20260203T015226Z
UID:3671-1770737400-1770746400@gaiacommunity.org
SUMMARY:Social Justice Meeting
DESCRIPTION:Social Justice meets to discuss possible service projects. We meet online only \nJoin Zoom Meeting\nhttps://us02web.zoom.us/j/89256215132?pwd=FR564R3EuBeZjJXdIiJS0vB6GKLtQC.1
URL:https://gaiacommunity.org/event/social-justice-meeting/
LOCATION:Zoom
END:VEVENT
BEGIN:VEVENT
DTSTART;TZID=America/Chicago:20260208T153000
DTEND;TZID=America/Chicago:20260208T180000
DTSTAMP:20260422T174630
CREATED:20251205T162400Z
LAST-MODIFIED:20251229T203138Z
UID:3632-1770564600-1770573600@gaiacommunity.org
SUMMARY:Class: ADF Druid Ritual and Theology
DESCRIPTION:Ár nDraíocht Féin (ADF) is dedicated to the study and further development of modern Druidry. It’s the Druid style of worship often used at Gaia Community. Learn more about it from practitioners David and Nikki. \nJoin Zoom Meeting\nhttps://us02web.zoom.us/j/86281367667?pwd=wUL3KoK1U3UAtkNRl3lu0nyfSPZVaV.1 \n  \n 
URL:https://gaiacommunity.org/event/class-adf-druid-ritual-and-theology/
LOCATION:Shawnee Mission UU Church\, 94000 Pflumm Rd.\, Lenexa\, KS\, 66215\, United States
END:VEVENT
BEGIN:VEVENT
DTSTART;TZID=America/Chicago:20260205T190000
DTEND;TZID=America/Chicago:20260205T210000
DTSTAMP:20260422T174630
CREATED:20260202T232045Z
LAST-MODIFIED:20260202T232045Z
UID:3664-1770318000-1770325200@gaiacommunity.org
SUMMARY:Ritual Team Meeting
DESCRIPTION:Our monthly meeting for the team that organizes our Sunday services. Anyone may attend. \nJoin Zoom Meeting\nhttps://us02web.zoom.us/j/4449994327
URL:https://gaiacommunity.org/event/ritual-team-meeting-6/
LOCATION:Zoom
END:VEVENT
BEGIN:VEVENT
DTSTART;TZID=America/Chicago:20260201T153000
DTEND;TZID=America/Chicago:20260201T190000
DTSTAMP:20260422T174630
CREATED:20251003T181547Z
LAST-MODIFIED:20251229T202725Z
UID:3605-1769959800-1769972400@gaiacommunity.org
SUMMARY:Ritual: Imbolc -- Holy Water\, Sacred Flame
DESCRIPTION:Join us on a journey to Brigid’s Well\, Forge\, and Hearth\, as we honor the season and the holiday of Imbolc. What will transform\, what will kindle\, what will grow in your coming year? Potluck follows\, so bring a dish for 8 to share with all ingredients labeled and peanut free. \nJoin Zoom Meeting\nhttps://us02web.zoom.us/j/83251470539?pwd=UOMck7SVIYGIWxiIXyvFw2E9ZYuUng.1
URL:https://gaiacommunity.org/event/ritual-imbolc/
LOCATION:Shawnee Mission UU Church\, 94000 Pflumm Rd.\, Lenexa\, KS\, 66215\, United States
END:VEVENT
BEGIN:VEVENT
DTSTART;TZID=America/Chicago:20260125T153000
DTEND;TZID=America/Chicago:20260125T180000
DTSTAMP:20260422T174630
CREATED:20251003T180936Z
LAST-MODIFIED:20260122T224212Z
UID:3603-1769355000-1769364000@gaiacommunity.org
SUMMARY:Ritual: Crossroads of the Plains cancelled - join us online for a discussion instead!
DESCRIPTION:Some day\, when the weather is kinder\, we will return to this exploration of the city and its edges\, boundaries\, and shadows. This week\, please stay home and out of the frigid temperatures! Instead\, we’re going to have an online-only discussion forum and talk about what we’re doing in our personal work to keep our spirits up\, keep warmth in our hearts\, and make it through this dark time of the year. Think about: what little rituals bring light to your world? What practices fuel your hearth-fires? Let’s see what we can learn from each other! \nA city is a series of edges\, corners\, and in-between places and peoples intersecting with one another in a myriad of ways. Join Kimberly\, Aubry\, and Matt for a ritual honoring Hekate and other liminal deities regularly experienced throughout our metro area. \nJoin Zoom Meeting\nhttps://us02web.zoom.us/j/87552376801?pwd=6AbHjjd1aCgdyRyYap1jYRyzKQvCj4.1
URL:https://gaiacommunity.org/event/ritual-crossroads-of-the-planes-plains/
LOCATION:Shawnee Mission UU Church\, 94000 Pflumm Rd.\, Lenexa\, KS\, 66215\, United States
END:VEVENT
BEGIN:VEVENT
DTSTART;TZID=America/Chicago:20260125T140000
DTEND;TZID=America/Chicago:20260125T160000
DTSTAMP:20260422T174630
CREATED:20251229T201857Z
LAST-MODIFIED:20251229T201857Z
UID:3644-1769349600-1769356800@gaiacommunity.org
SUMMARY:Crafting Circle
DESCRIPTION:Work on a personal craft project with other Gaians! Chat and craft in the KidSpace room before the Sunday service.
URL:https://gaiacommunity.org/event/crafting-circle-3/
LOCATION:Shawnee Mission UU Church\, 94000 Pflumm Rd.\, Lenexa\, KS\, 66215\, United States
END:VEVENT
BEGIN:VEVENT
DTSTART;TZID=America/Chicago:20260118T153000
DTEND;TZID=America/Chicago:20260118T180000
DTSTAMP:20260422T174630
CREATED:20251003T180544Z
LAST-MODIFIED:20251003T180544Z
UID:3601-1768750200-1768759200@gaiacommunity.org
SUMMARY:Forum: Flower of Values
DESCRIPTION:The Flower of Values are the value statements of the Unitarian Universalist Association. Join in a discussion of these values and how to enact them. \nJoin Zoom Meeting\nhttps://us02web.zoom.us/j/81703550436?pwd=3XxWbrvwg2oPZfvutS982oaPEQb6bR.1
URL:https://gaiacommunity.org/event/forum-flower-of-values/
LOCATION:Shawnee Mission UU Church\, 94000 Pflumm Rd.\, Lenexa\, KS\, 66215\, United States
END:VEVENT
BEGIN:VEVENT
DTSTART;TZID=America/Chicago:20260117T100000
DTEND;TZID=America/Chicago:20260117T120000
DTSTAMP:20260422T174630
CREATED:20251003T175659Z
LAST-MODIFIED:20251003T175659Z
UID:3599-1768644000-1768651200@gaiacommunity.org
SUMMARY:Ritual for Business
DESCRIPTION:Our congregation’s monthly business meeting. Anyone may attend\, but only full active members may participate in the consensus process. \nJoin Zoom Meeting\nhttps://us02web.zoom.us/j/85491815372?pwd=eI3Chx89JoXbawlbGQJtsnUwUyi9lb.1
URL:https://gaiacommunity.org/event/ritual-for-business-13/
LOCATION:Zoom
END:VEVENT
BEGIN:VEVENT
DTSTART;TZID=America/Chicago:20260113T190000
DTEND;TZID=America/Chicago:20260113T210000
DTSTAMP:20260422T174630
CREATED:20251003T174802Z
LAST-MODIFIED:20251003T174802Z
UID:3596-1768330800-1768338000@gaiacommunity.org
SUMMARY:Social Justice Meeting
DESCRIPTION:Social Justice meets to discuss possible service projects. We meet online only \nJoin Zoom Meeting\nhttps://us02web.zoom.us/j/89256215132?pwd=FR564R3EuBeZjJXdIiJS0vB6GKLtQC.1
URL:https://gaiacommunity.org/event/social-justice-meeting-11/
LOCATION:Zoom
END:VEVENT
BEGIN:VEVENT
DTSTART;TZID=America/Chicago:20260111T153000
DTEND;TZID=America/Chicago:20260111T180000
DTSTAMP:20260422T174630
CREATED:20251003T174332Z
LAST-MODIFIED:20251229T201252Z
UID:3593-1768145400-1768154400@gaiacommunity.org
SUMMARY:Bardic Circle: Justice\, Equity\, Transformation\, Pluralism\, Interdependence\, Generosity\, Love
DESCRIPTION:Bardic Circles are a chance for you to perform poetry\, storytelling\, dance\, or play an instrument. We provide a theme for inspiration. Even if you choose not to perform\, your presence is encouraged for bards need an audience! \nThe theme is merely a suggestion. You may bring a performance that is not on theme. \nJoin Zoom Meeting\nhttps://us02web.zoom.us/j/86863980792?pwd=61brpdAtICRb5Vu2yOZX6l4akgWgvm.1
URL:https://gaiacommunity.org/event/bardic-circle-justice-equity-transformation-pluralism-interdependence-generosity-love/
LOCATION:Shawnee Mission UU Church\, 94000 Pflumm Rd.\, Lenexa\, KS\, 66215\, United States
END:VEVENT
BEGIN:VEVENT
DTSTART;TZID=America/Chicago:20260107T190000
DTEND;TZID=America/Chicago:20260107T210000
DTSTAMP:20260422T174630
CREATED:20251003T182119Z
LAST-MODIFIED:20251003T182119Z
UID:3611-1767812400-1767819600@gaiacommunity.org
SUMMARY:Ritual Team Meeting
DESCRIPTION:Our monthly meeting for the team that organizes our Sunday services. Anyone may attend. \nJoin Zoom Meeting\nhttps://us02web.zoom.us/j/4449994327
URL:https://gaiacommunity.org/event/ritual-team-meeting-5/
END:VEVENT
BEGIN:VEVENT
DTSTART;TZID=America/Chicago:20260104T153000
DTEND;TZID=America/Chicago:20260104T180000
DTSTAMP:20260422T174630
CREATED:20251003T173702Z
LAST-MODIFIED:20260104T190840Z
UID:3591-1767540600-1767549600@gaiacommunity.org
SUMMARY:Ritual: Out With the Old
DESCRIPTION:As we enter into the new year\, many of us seek to be rid of old patterns\, old habits\, old ways of thinking. Join us as we work to break the power these problems hold over us\, reach towards a state of balance\, and reclaim our energy. This ritual could get messy — closed-toe shoes and easily washable clothing recommended. \nIf you want to bring a small bowl or vessel (fist sized or so) that is ceramic or glass and you will not be taking home\, that may help you connect with the power of our ritual\, but we will have a ready supply. \nFor those joining remotely\, you may want to represent this more safely with paper\, cardboard\, or materials that will not be a safety hazard later. An origami ‘box’ would work if that is in your skill set (such as described at https://origami.me/box/ ). You may also want to have red paper\, or a red pen/marker or fast-drying paint\, but that is completely optional. \nWhen we destroy these items\, you may want to use one of these historically attested phrases\, or write one of your own. We will be sharing this phrase\, not what you write/destroy itself. You may of course decline to speak out loud! \n\nI tread it under my heels. I cover it in dust.\nIts back is broken\, it shall not return.\nThe spear of Sutekh is in its neck\, it is felled\, it is destroyed.\nBe spat upon\, be annihilated\, be forgotten!\n\nJoin Zoom Meeting\nhttps://us02web.zoom.us/j/81114282657?pwd=o69xSF0fEyNDfSDW5wiBxglmbleWuL.1
URL:https://gaiacommunity.org/event/ritual-out-with-the-old/
LOCATION:Shawnee Mission UU Church\, 94000 Pflumm Rd.\, Lenexa\, KS\, 66215\, United States
END:VEVENT
BEGIN:VEVENT
DTSTART;TZID=America/Chicago:20251228T153000
DTEND;TZID=America/Chicago:20251228T180000
DTSTAMP:20260422T174630
CREATED:20251003T162325Z
LAST-MODIFIED:20251003T162325Z
UID:3589-1766935800-1766944800@gaiacommunity.org
SUMMARY:Class/Workshop: Loving-Kindness
DESCRIPTION:Metta\, loving-kindness practice\, originates with  Buddhism as a way to spread love within others and yourself. Come learn how to perform this ancient practice to bring more love to the world. \nJoin Zoom Meeting\nhttps://us02web.zoom.us/j/87053378033?pwd=O2dd29vbqpdSwaUOHcxyW9x6ZDoneF.1
URL:https://gaiacommunity.org/event/class-workshop-loving-kindness/
LOCATION:Shawnee Mission UU Church\, 94000 Pflumm Rd.\, Lenexa\, KS\, 66215\, United States
END:VEVENT
BEGIN:VEVENT
DTSTART;TZID=America/Chicago:20251221T153000
DTEND;TZID=America/Chicago:20251221T180000
DTSTAMP:20260422T174630
CREATED:20251003T161056Z
LAST-MODIFIED:20251202T013635Z
UID:3587-1766331000-1766340000@gaiacommunity.org
SUMMARY:Ritual: Winter Solstice - Nine Brazen Bells
DESCRIPTION:Nine brazen bells will ring. On a silver tree whose branches sing. Spin the wyrding web times three\, and muses come to me. Come find the blessing of inspiration in a magical Otherworld solstice. \nJoin Zoom Meeting: \nhttps://us02web.zoom.us/j/86936017666?pwd=FoOagZf8NUJ6TBnMV0p2ZBIBKedga0.1
URL:https://gaiacommunity.org/event/ritual-winter-solstice-nine-brazen-bells/
LOCATION:Shawnee Mission UU Church\, 94000 Pflumm Rd.\, Lenexa\, KS\, 66215\, United States
END:VEVENT
BEGIN:VEVENT
DTSTART;TZID=America/Chicago:20251220T100000
DTEND;TZID=America/Chicago:20251220T120000
DTSTAMP:20260422T174630
CREATED:20251003T175444Z
LAST-MODIFIED:20251003T175444Z
UID:2484-1766224800-1766232000@gaiacommunity.org
SUMMARY:Ritual for Business
DESCRIPTION:Our congregation’s monthly business meeting. Anyone may attend\, but only full active members may participate in the consensus process. \nJoin Zoom Meeting\nhttps://us02web.zoom.us/j/85491815372?pwd=eI3Chx89JoXbawlbGQJtsnUwUyi9lb.1
URL:https://gaiacommunity.org/event/ritual-for-business-10/
LOCATION:Zoom
END:VEVENT
BEGIN:VEVENT
DTSTART;TZID=America/Chicago:20251214T153000
DTEND;TZID=America/Chicago:20251214T180000
DTSTAMP:20260422T174630
CREATED:20251003T155716Z
LAST-MODIFIED:20251202T013130Z
UID:3583-1765726200-1765735200@gaiacommunity.org
SUMMARY:Workshop: House Wards and Blessings
DESCRIPTION:We’ll explore some of the ways you can make items to protect and bless your dwelling. \nJoin Zoom Meeting\nhttps://us02web.zoom.us/j/81577315397?pwd=XClRgVJfAqazZh8ahV7Ym7Y7ssdb1M.1 \n 
URL:https://gaiacommunity.org/event/workshop-house-wards-and-blessings/
LOCATION:Shawnee Mission UU Church\, 94000 Pflumm Rd.\, Lenexa\, KS\, 66215\, United States
END:VEVENT
BEGIN:VEVENT
DTSTART;TZID=America/Chicago:20251209T190000
DTEND;TZID=America/Chicago:20251209T210000
DTSTAMP:20260422T174630
CREATED:20251003T153826Z
LAST-MODIFIED:20251003T153826Z
UID:3573-1765306800-1765314000@gaiacommunity.org
SUMMARY:Social Justice Meeting
DESCRIPTION:Social Justice meets to discuss possible service projects. We meet online only. \nJoin Zoom Meeting\nhttps://us02web.zoom.us/j/89256215132?pwd=FR564R3EuBeZjJXdIiJS0vB6GKLtQC.1
URL:https://gaiacommunity.org/event/social-justice-meeting-10/
END:VEVENT
BEGIN:VEVENT
DTSTART;TZID=America/Chicago:20251207T153000
DTEND;TZID=America/Chicago:20251207T180000
DTSTAMP:20260422T174630
CREATED:20251003T155136Z
LAST-MODIFIED:20251202T011435Z
UID:3581-1765121400-1765130400@gaiacommunity.org
SUMMARY:Ritual: Blessing the Warming Shelter
DESCRIPTION:Project 10❤️20 is Johnson County’s *only* no barrier shelter and case management service for adults who are experiencing homelessness. It is open between 6 pm – 8 am\, Dec 1st through March 31st and is co-located where we meet. Our ritual will focus on supporting the shelter and its occupants physically and energetically. \nPlease bring warm clothing to donate: hats\, gloves\, scarves\, blankets\, coats\, etc. to be blessed as well during ritual. \nJoin Zoom Meeting\nhttps://us02web.zoom.us/j/89788014777?pwd=58b4XA06vRUAjk2jz9Ip1XIPq7y8Kb.1
URL:https://gaiacommunity.org/event/ritual-blessing-the-warming-shelter/
LOCATION:Shawnee Mission UU Church\, 94000 Pflumm Rd.\, Lenexa\, KS\, 66215\, United States
END:VEVENT
BEGIN:VEVENT
DTSTART;TZID=America/Chicago:20251202T190000
DTEND;TZID=America/Chicago:20251202T210000
DTSTAMP:20260422T174630
CREATED:20251003T182014Z
LAST-MODIFIED:20251003T182014Z
UID:3609-1764702000-1764709200@gaiacommunity.org
SUMMARY:Ritual Team Meeting
DESCRIPTION:Our monthly meeting for the team that organizes our Sunday services. Anyone may attend. \nJoin Zoom Meeting\nhttps://us02web.zoom.us/j/4449994327
URL:https://gaiacommunity.org/event/ritual-team-meeting-4/
END:VEVENT
END:VCALENDAR