BEGIN:VCALENDAR
VERSION:2.0
PRODID:-//Gaia Community - ECPv6.15.20//NONSGML v1.0//EN
CALSCALE:GREGORIAN
METHOD:PUBLISH
X-WR-CALNAME:Gaia Community
X-ORIGINAL-URL:https://gaiacommunity.org
X-WR-CALDESC:Events for Gaia Community
REFRESH-INTERVAL;VALUE=DURATION:PT1H
X-Robots-Tag:noindex
X-PUBLISHED-TTL:PT1H
BEGIN:VTIMEZONE
TZID:America/Chicago
BEGIN:DAYLIGHT
TZOFFSETFROM:-0600
TZOFFSETTO:-0500
TZNAME:CDT
DTSTART:20250309T080000
END:DAYLIGHT
BEGIN:STANDARD
TZOFFSETFROM:-0500
TZOFFSETTO:-0600
TZNAME:CST
DTSTART:20251102T070000
END:STANDARD
BEGIN:DAYLIGHT
TZOFFSETFROM:-0600
TZOFFSETTO:-0500
TZNAME:CDT
DTSTART:20260308T080000
END:DAYLIGHT
BEGIN:STANDARD
TZOFFSETFROM:-0500
TZOFFSETTO:-0600
TZNAME:CST
DTSTART:20261101T070000
END:STANDARD
BEGIN:DAYLIGHT
TZOFFSETFROM:-0600
TZOFFSETTO:-0500
TZNAME:CDT
DTSTART:20270314T080000
END:DAYLIGHT
BEGIN:STANDARD
TZOFFSETFROM:-0500
TZOFFSETTO:-0600
TZNAME:CST
DTSTART:20271107T070000
END:STANDARD
END:VTIMEZONE
BEGIN:VEVENT
DTSTART;TZID=America/Chicago:20260510T153000
DTEND;TZID=America/Chicago:20260510T180000
DTSTAMP:20260423T010312
CREATED:20260203T025002Z
LAST-MODIFIED:20260203T025002Z
UID:3691-1778427000-1778436000@gaiacommunity.org
SUMMARY:Bardic Circle: Trains!!!
DESCRIPTION:Come perform a song\, poem\, dance\, with an instrument\, or show material art. The theme is trains if you are looking for inspiration. You do not need to stay on topic. If you do not wish to perform\, please come be part of the audience! \nJoin Zoom Meeting\nhttps://us02web.zoom.us/j/81066409638?pwd=KvPvaTaFZ8bo4WJ50kQX42T9MVyZyH.1
URL:https://gaiacommunity.org/event/bardic-circle-trains/
LOCATION:Shawnee Mission UU Church\, 94000 Pflumm Rd.\, Lenexa\, KS\, 66215\, United States
END:VEVENT
BEGIN:VEVENT
DTSTART;TZID=America/Chicago:20260512T190000
DTEND;TZID=America/Chicago:20260512T193000
DTSTAMP:20260423T010312
CREATED:20260204T224210Z
LAST-MODIFIED:20260204T224210Z
UID:3709-1778612400-1778614200@gaiacommunity.org
SUMMARY:Social Justice Meeting
DESCRIPTION:Social Justice meets to discuss possible service projects. We meet online only \nJoin Zoom Meeting\nhttps://us02web.zoom.us/j/89256215132?pwd=FR564R3EuBeZjJXdIiJS0vB6GKLtQC.1
URL:https://gaiacommunity.org/event/social-justice-meeting-12/
LOCATION:Zoom
END:VEVENT
BEGIN:VEVENT
DTSTART;TZID=America/Chicago:20260516T100000
DTEND;TZID=America/Chicago:20260516T120000
DTSTAMP:20260423T010312
CREATED:20260204T223826Z
LAST-MODIFIED:20260204T223826Z
UID:3707-1778925600-1778932800@gaiacommunity.org
SUMMARY:Ritual for Business
DESCRIPTION:Our congregation’s monthly business meeting. Anyone may attend\, but only full active members may participate in the consensus process. \nJoin Zoom Meeting\nhttps://us02web.zoom.us/j/85491815372?pwd=eI3Chx89JoXbawlbGQJtsnUwUyi9lb.1
URL:https://gaiacommunity.org/event/ritual-for-business-15/
LOCATION:Zoom
END:VEVENT
BEGIN:VEVENT
DTSTART;TZID=America/Chicago:20260517T153000
DTEND;TZID=America/Chicago:20260517T180000
DTSTAMP:20260423T010312
CREATED:20260308T000831Z
LAST-MODIFIED:20260308T000831Z
UID:3735-1779031800-1779040800@gaiacommunity.org
SUMMARY:Class/Workshop: Travel as a Vehicle for Enchantment
DESCRIPTION:More info to come! \nJoin Zoom Meeting\nhttps://us02web.zoom.us/j/88566565020?pwd=Z58xk1TKSRa5eJ8bHHloKZyh65V0Nh.1 \n 
URL:https://gaiacommunity.org/event/class-workshop-travel-as-a-vehicle-for-enchantment/
LOCATION:Shawnee Mission UU Church\, 94000 Pflumm Rd.\, Lenexa\, KS\, 66215\, United States
END:VEVENT
BEGIN:VEVENT
DTSTART;TZID=America/Chicago:20260524T153000
DTEND;TZID=America/Chicago:20260524T180000
DTSTAMP:20260423T010312
CREATED:20260308T002021Z
LAST-MODIFIED:20260308T002021Z
UID:3737-1779636600-1779645600@gaiacommunity.org
SUMMARY:Ritual: SOS
DESCRIPTION:SOS stands for Sharing Our Spirits. The ritual is created in real time by those who attend. Bring your ideas or any tools (drums\, divination\, ritual tools) you would like to use. Come be a part of spontaneous magic designed to truly meet the moment. \nJoin Zoom Meeting\nhttps://us02web.zoom.us/j/82304788202?pwd=tavR4cNdjvaS0htHtFAsKMW6nb3yP1.1 \n 
URL:https://gaiacommunity.org/event/ritual-sos/
LOCATION:Shawnee Mission UU Church\, 94000 Pflumm Rd.\, Lenexa\, KS\, 66215\, United States
END:VEVENT
BEGIN:VEVENT
DTSTART;TZID=America/Chicago:20260531T153000
DTEND;TZID=America/Chicago:20260531T180000
DTSTAMP:20260423T010312
CREATED:20260317T161739Z
LAST-MODIFIED:20260317T161739Z
UID:3749-1780241400-1780250400@gaiacommunity.org
SUMMARY:Ritual: Rite of Her Sacred Fires\, NMS
DESCRIPTION:More info to come! \nJoin Zoom Meeting\nhttps://us02web.zoom.us/j/81358947317?pwd=Jjjbl4f7wiTOXCCgOgH4qiyhxDo6lK.1 \n 
URL:https://gaiacommunity.org/event/ritual-rite-of-her-sacred-fires-nms/
LOCATION:Shawnee Mission UU Church\, 94000 Pflumm Rd.\, Lenexa\, KS\, 66215\, United States
END:VEVENT
BEGIN:VEVENT
DTSTART;TZID=America/Chicago:20260607T153000
DTEND;TZID=America/Chicago:20260607T180000
DTSTAMP:20260423T010312
CREATED:20260317T162422Z
LAST-MODIFIED:20260317T163529Z
UID:3751-1780846200-1780855200@gaiacommunity.org
SUMMARY:Workshop: Art!
DESCRIPTION:More info to come! \nJoin Zoom Meeting\nhttps://us02web.zoom.us/j/82998799516?pwd=wl7azGg08YYSClq7cuDaApbQHhK01E.1 \n 
URL:https://gaiacommunity.org/event/workshop-art/
LOCATION:Shawnee Mission UU Church\, 94000 Pflumm Rd.\, Lenexa\, KS\, 66215\, United States
END:VEVENT
BEGIN:VEVENT
DTSTART;TZID=America/Chicago:20260614T153000
DTEND;TZID=America/Chicago:20260614T180000
DTSTAMP:20260423T010312
CREATED:20260317T163227Z
LAST-MODIFIED:20260317T163510Z
UID:3753-1781451000-1781460000@gaiacommunity.org
SUMMARY:Special Guest: Lama Matt
DESCRIPTION:Lama Matt will be visiting from the Rime Buddhist Center to give a talk. Bring your questions about Buddhism! \nJoin Zoom Meeting\nhttps://us02web.zoom.us/j/82668940497?pwd=z8cok88ybVawmOyDucaVJveHjfq6Ep.1 \n  \n 
URL:https://gaiacommunity.org/event/special-guest-lama-matt/
LOCATION:Shawnee Mission UU Church\, 94000 Pflumm Rd.\, Lenexa\, KS\, 66215\, United States
END:VEVENT
BEGIN:VEVENT
DTSTART;TZID=America/Chicago:20260621T153000
DTEND;TZID=America/Chicago:20260621T180000
DTSTAMP:20260423T010312
CREATED:20260317T163828Z
LAST-MODIFIED:20260317T163828Z
UID:3758-1782055800-1782064800@gaiacommunity.org
SUMMARY:High Holiday Ritual: Summer Solstice
DESCRIPTION:More info to come! \nJoin Zoom Meeting\nhttps://us02web.zoom.us/j/84538261988?pwd=THjHZNZM4Y6k8P3pVKlUi9txClsGdJ.1 \n 
URL:https://gaiacommunity.org/event/high-holiday-ritual-summer-solstice/
LOCATION:Shawnee Mission UU Church\, 94000 Pflumm Rd.\, Lenexa\, KS\, 66215\, United States
END:VEVENT
BEGIN:VEVENT
DTSTART;TZID=America/Chicago:20260628T153000
DTEND;TZID=America/Chicago:20260628T180000
DTSTAMP:20260423T010312
CREATED:20260318T211034Z
LAST-MODIFIED:20260318T211215Z
UID:3760-1782660600-1782669600@gaiacommunity.org
SUMMARY:PatronFest!
DESCRIPTION:Every year\, Gaia Community elects a new patron to give us guidance and inspiration for year. \nJoin Zoom Meeting\nhttps://us02web.zoom.us/j/89830711746?pwd=W0a1UCdvcIn7TgEIVXMwCDBmQaa9bU.1 \n  \n 
URL:https://gaiacommunity.org/event/patronfest/
LOCATION:Shawnee Mission UU Church\, 94000 Pflumm Rd.\, Lenexa\, KS\, 66215\, United States
END:VEVENT
BEGIN:VEVENT
DTSTART;TZID=America/Chicago:20260705T153000
DTEND;TZID=America/Chicago:20260705T180000
DTSTAMP:20260423T010312
CREATED:20260421T155431Z
LAST-MODIFIED:20260421T155431Z
UID:3775-1783265400-1783274400@gaiacommunity.org
SUMMARY:Ritual: SOS
DESCRIPTION:SOS stands for Sharing Our Spirits. The ritual is created in real time by those who attend. Bring your ideas or any tools (drums\, divination\, ritual tools) you would like to use. Come be a part of spontaneous magic designed to truly meet the moment. \nJoin Zoom Meeting\nhttps://us02web.zoom.us/j/87222619141?pwd=6txxmhHiaauTYTlvsJ4gvaObzIHJp0.1 \n 
URL:https://gaiacommunity.org/event/ritual-sos-2/
LOCATION:Shawnee Mission UU Church\, 94000 Pflumm Rd.\, Lenexa\, KS\, 66215\, United States
END:VEVENT
BEGIN:VEVENT
DTSTART;TZID=America/Chicago:20260712T153000
DTEND;TZID=America/Chicago:20260712T180000
DTSTAMP:20260423T010312
CREATED:20260421T155816Z
LAST-MODIFIED:20260421T155816Z
UID:3777-1783870200-1783879200@gaiacommunity.org
SUMMARY:Ritual: Crossroads of the Planes/Plains
DESCRIPTION:More info to come! \nJoin Zoom Meeting\nhttps://us02web.zoom.us/j/82923711468?pwd=aPwq8cx2vgWb48aamKbhV31E60AfCu.1
URL:https://gaiacommunity.org/event/ritual-crossroads-of-the-planes-plains-2/
LOCATION:Shawnee Mission UU Church\, 94000 Pflumm Rd.\, Lenexa\, KS\, 66215\, United States
END:VEVENT
BEGIN:VEVENT
DTSTART;TZID=America/Chicago:20260714T153000
DTEND;TZID=America/Chicago:20260714T180000
DTSTAMP:20260423T010312
CREATED:20260421T160126Z
LAST-MODIFIED:20260421T160126Z
UID:3779-1784043000-1784052000@gaiacommunity.org
SUMMARY:Social Justice Meeting
DESCRIPTION:Social Justice meets to discuss possible service projects. We meet online only. \nJoin Zoom Meeting\nhttps://us02web.zoom.us/j/89256215132?pwd=FR564R3EuBeZjJXdIiJS0vB6GKLtQC.1
URL:https://gaiacommunity.org/event/social-justice-meeting-2/
LOCATION:Zoom
END:VEVENT
BEGIN:VEVENT
DTSTART;TZID=America/Chicago:20260718T100000
DTEND;TZID=America/Chicago:20260718T120000
DTSTAMP:20260423T010312
CREATED:20260421T160759Z
LAST-MODIFIED:20260421T160759Z
UID:3781-1784368800-1784376000@gaiacommunity.org
SUMMARY:Ritual for Business
DESCRIPTION:Our congregation’s monthly business meeting. Anyone may attend\, but only full active members may participate in the consensus process. \nJoin Zoom Meeting\nhttps://us02web.zoom.us/j/85491815372?pwd=eI3Chx89JoXbawlbGQJtsnUwUyi9lb.1 \n  \n  \n 
URL:https://gaiacommunity.org/event/ritual-for-business-2/
LOCATION:Zoom
END:VEVENT
BEGIN:VEVENT
DTSTART;TZID=America/Chicago:20260719T153000
DTEND;TZID=America/Chicago:20260719T180000
DTSTAMP:20260423T010312
CREATED:20260421T161002Z
LAST-MODIFIED:20260421T161002Z
UID:3783-1784475000-1784484000@gaiacommunity.org
SUMMARY:Forum: Divination Sharing
DESCRIPTION:More info to come! \nJoin Zoom Meeting\nhttps://us02web.zoom.us/j/81976829593?pwd=FMGEG7ZNJ5dOE6m8tIohHA4G8AuWpc.1
URL:https://gaiacommunity.org/event/forum-divination-sharing/
LOCATION:Shawnee Mission UU Church\, 94000 Pflumm Rd.\, Lenexa\, KS\, 66215\, United States
END:VEVENT
BEGIN:VEVENT
DTSTART;TZID=America/Chicago:20260726T153000
DTEND;TZID=America/Chicago:20260726T180000
DTSTAMP:20260423T010312
CREATED:20260421T161213Z
LAST-MODIFIED:20260421T161213Z
UID:3785-1785079800-1785088800@gaiacommunity.org
SUMMARY:Ritual: Farewell to Hekate
DESCRIPTION:More info to come! \nJoin Zoom Meeting\nhttps://us02web.zoom.us/j/82387542418?pwd=ICbxxNW8Cmq0VLcdaFbxT1MvBFQJZn.1 \n 
URL:https://gaiacommunity.org/event/ritual-farewell-to-hekate/
LOCATION:Shawnee Mission UU Church\, 94000 Pflumm Rd.\, Lenexa\, KS\, 66215\, United States
END:VEVENT
BEGIN:VEVENT
DTSTART;TZID=America/Chicago:20260802T153000
DTEND;TZID=America/Chicago:20260802T190000
DTSTAMP:20260423T010312
CREATED:20260421T161542Z
LAST-MODIFIED:20260421T161542Z
UID:3787-1785684600-1785697200@gaiacommunity.org
SUMMARY:High Holiday Ritual: Lughnasadh + Potluck
DESCRIPTION:More info to come! \nJoin Zoom Meeting\nhttps://us02web.zoom.us/j/81897115690?pwd=2BWB2VkCafVsCHMoKfEZbXRyjkDYZk.1 \n 
URL:https://gaiacommunity.org/event/high-holiday-ritual-lughnasadh-potluck/
LOCATION:Shawnee Mission UU Church\, 94000 Pflumm Rd.\, Lenexa\, KS\, 66215\, United States
END:VEVENT
END:VCALENDAR