BEGIN:VCALENDAR
VERSION:2.0
PRODID:-//Gaia Community - ECPv6.15.20//NONSGML v1.0//EN
CALSCALE:GREGORIAN
METHOD:PUBLISH
X-ORIGINAL-URL:https://gaiacommunity.org
X-WR-CALDESC:Events for Gaia Community
REFRESH-INTERVAL;VALUE=DURATION:PT1H
X-Robots-Tag:noindex
X-PUBLISHED-TTL:PT1H
BEGIN:VTIMEZONE
TZID:America/Chicago
BEGIN:DAYLIGHT
TZOFFSETFROM:-0600
TZOFFSETTO:-0500
TZNAME:CDT
DTSTART:20240310T080000
END:DAYLIGHT
BEGIN:STANDARD
TZOFFSETFROM:-0500
TZOFFSETTO:-0600
TZNAME:CST
DTSTART:20241103T070000
END:STANDARD
BEGIN:DAYLIGHT
TZOFFSETFROM:-0600
TZOFFSETTO:-0500
TZNAME:CDT
DTSTART:20250309T080000
END:DAYLIGHT
BEGIN:STANDARD
TZOFFSETFROM:-0500
TZOFFSETTO:-0600
TZNAME:CST
DTSTART:20251102T070000
END:STANDARD
BEGIN:DAYLIGHT
TZOFFSETFROM:-0600
TZOFFSETTO:-0500
TZNAME:CDT
DTSTART:20260308T080000
END:DAYLIGHT
BEGIN:STANDARD
TZOFFSETFROM:-0500
TZOFFSETTO:-0600
TZNAME:CST
DTSTART:20261101T070000
END:STANDARD
END:VTIMEZONE
BEGIN:VEVENT
DTSTART;TZID=America/Chicago:20250706T153000
DTEND;TZID=America/Chicago:20250706T180000
DTSTAMP:20260423T013034
CREATED:20250419T153521Z
LAST-MODIFIED:20250606T215127Z
UID:3355-1751815800-1751824800@gaiacommunity.org
SUMMARY:Forum: Mutual Aid Networks
DESCRIPTION:Join us for a discussion of mutual aid networks – what they are\, why would you want one\, how can they be created or are there pre-existing ones you can join. \nJoin Zoom Meeting\nhttps://us02web.zoom.us/j/83480212795?pwd=zt40BbuibzOb8pX4AZyanP0t7kaIPh.1 \n  \n 
URL:https://gaiacommunity.org/event/forum-mutual-aid-networks/
LOCATION:Shawnee Mission UU Church\, 94000 Pflumm Rd.\, Lenexa\, KS\, 66215\, United States
END:VEVENT
BEGIN:VEVENT
DTSTART;TZID=America/Chicago:20250708T190000
DTEND;TZID=America/Chicago:20250708T210000
DTSTAMP:20260423T013034
CREATED:20250419T150349Z
LAST-MODIFIED:20250708T222012Z
UID:3321-1752001200-1752008400@gaiacommunity.org
SUMMARY:Social Justice Meeting
DESCRIPTION:Social Justice meets to discuss possible service projects. \nJoin Zoom Meeting\nhttps://us02web.zoom.us/j/89256215132?pwd=UyuUDuR847mjY6sRAhkbdI3l1wt4xA.1
URL:https://gaiacommunity.org/event/social-justice-meeting-7/
LOCATION:Zoom
END:VEVENT
BEGIN:VEVENT
DTSTART;TZID=America/Chicago:20250711T190000
DTEND;TZID=America/Chicago:20250711T210000
DTSTAMP:20260423T013034
CREATED:20250419T145918Z
LAST-MODIFIED:20250419T145918Z
UID:3315-1752260400-1752267600@gaiacommunity.org
SUMMARY:Ritual Teams Meeting
DESCRIPTION:Our monthly meeting for the team that organizes our Sunday services. Anyone may attend. \nJoin Zoom Meeting\nhttps://us02web.zoom.us/j/4449994327
URL:https://gaiacommunity.org/event/ritual-teams-meeting-11/
LOCATION:Zoom
END:VEVENT
BEGIN:VEVENT
DTSTART;TZID=America/Chicago:20250713T153000
DTEND;TZID=America/Chicago:20250713T180000
DTSTAMP:20260423T013034
CREATED:20250419T153821Z
LAST-MODIFIED:20250606T215152Z
UID:3357-1752420600-1752429600@gaiacommunity.org
SUMMARY:Ritual: Farewell to the Fool
DESCRIPTION:For the past year\, we have journeyed with The Fool\, but all journeys must reach their end. Join us as we unpack the knapsack of experiences and lessons learned from this year’s work\, and enter into the realm of The World seeking completion\, wholeness\, and the ability to greet familiar things with new understanding.  \nJoin Zoom Meeting\nhttps://us02web.zoom.us/j/85662814185?pwd=dqn4NU8O3Nz8vioft5nUA1Li8LD9nM.1 \n  \n 
URL:https://gaiacommunity.org/event/ritual-farewell-to-the-fool/
LOCATION:Shawnee Mission UU Church\, 94000 Pflumm Rd.\, Lenexa\, KS\, 66215\, United States
END:VEVENT
BEGIN:VEVENT
DTSTART;TZID=America/Chicago:20250719T100000
DTEND;TZID=America/Chicago:20250719T120000
DTSTAMP:20260423T013034
CREATED:20250419T150856Z
LAST-MODIFIED:20250719T142403Z
UID:3327-1752919200-1752926400@gaiacommunity.org
SUMMARY:Ritual for Business
DESCRIPTION:Our congregation’s monthly business meeting. Anyone may attend\, but only full active members may participate in the consensus process. \nJoin Zoom Meeting\nhttps://us02web.zoom.us/j/85491815372?pwd=eI3Chx89JoXbawlbGQJtsnUwUyi9lb.1
URL:https://gaiacommunity.org/event/ritual-for-business-12/
LOCATION:Zoom
END:VEVENT
BEGIN:VEVENT
DTSTART;TZID=America/Chicago:20250720T153000
DTEND;TZID=America/Chicago:20250720T180000
DTSTAMP:20260423T013034
CREATED:20250419T153926Z
LAST-MODIFIED:20250715T180900Z
UID:3359-1753025400-1753034400@gaiacommunity.org
SUMMARY:Class: Our New Patron -- Hekate
DESCRIPTION:Come learn about our new patron\, Hekate. \nJoin Zoom Meeting\nhttps://us02web.zoom.us/j/86917050069?pwd=bfTmv4W83zvlVWjlUWvQ0OsV8pu1ax.1 \n 
URL:https://gaiacommunity.org/event/class-our-new-patron/
LOCATION:Shawnee Mission UU Church\, 94000 Pflumm Rd.\, Lenexa\, KS\, 66215\, United States
END:VEVENT
BEGIN:VEVENT
DTSTART;TZID=America/Chicago:20250727T140000
DTEND;TZID=America/Chicago:20250727T160000
DTSTAMP:20260423T013034
CREATED:20250419T151232Z
LAST-MODIFIED:20250419T151232Z
UID:3333-1753624800-1753632000@gaiacommunity.org
SUMMARY:Craft Circle
DESCRIPTION:Work on a crafting project with other Gaians! Chat and craft before the Sunday service in the KidSpace room.
URL:https://gaiacommunity.org/event/craft-circle-3/
LOCATION:Shawnee Mission UU Church\, 94000 Pflumm Rd.\, Lenexa\, KS\, 66215\, United States
END:VEVENT
BEGIN:VEVENT
DTSTART;TZID=America/Chicago:20250727T153000
DTEND;TZID=America/Chicago:20250727T180000
DTSTAMP:20260423T013034
CREATED:20250419T154027Z
LAST-MODIFIED:20250715T181554Z
UID:3361-1753630200-1753639200@gaiacommunity.org
SUMMARY:Ritual: Installation of Hekate as Patron
DESCRIPTION:Join us as we welcome Hekate as Gaia Community’s patron for the coming year.  As the goddess of transitions and liminal space\, this moment of new beginnings is one of Her specialities. \n\n\nBring a divination tool and journal if you like\, we will be doing a little divination in ritual. \n\n\nPeople online might want: water for purification\, a chalice to light\, and maybe a candle to light for Hekate. \n\n\nJoin Zoom Meeting\nhttps://us02web.zoom.us/j/89700336626?pwd=s9kWB50rl88AYAaXV3N1ZFZPnFaupy.1 \n 
URL:https://gaiacommunity.org/event/ritual-installation-of-our-new-patron/
LOCATION:Shawnee Mission UU Church\, 94000 Pflumm Rd.\, Lenexa\, KS\, 66215\, United States
END:VEVENT
END:VCALENDAR