BEGIN:VCALENDAR
VERSION:2.0
PRODID:-//Gaia Community - ECPv6.15.20//NONSGML v1.0//EN
CALSCALE:GREGORIAN
METHOD:PUBLISH
X-WR-CALNAME:Gaia Community
X-ORIGINAL-URL:https://gaiacommunity.org
X-WR-CALDESC:Events for Gaia Community
REFRESH-INTERVAL;VALUE=DURATION:PT1H
X-Robots-Tag:noindex
X-PUBLISHED-TTL:PT1H
BEGIN:VTIMEZONE
TZID:America/Chicago
BEGIN:DAYLIGHT
TZOFFSETFROM:-0600
TZOFFSETTO:-0500
TZNAME:CDT
DTSTART:20250309T080000
END:DAYLIGHT
BEGIN:STANDARD
TZOFFSETFROM:-0500
TZOFFSETTO:-0600
TZNAME:CST
DTSTART:20251102T070000
END:STANDARD
BEGIN:DAYLIGHT
TZOFFSETFROM:-0600
TZOFFSETTO:-0500
TZNAME:CDT
DTSTART:20260308T080000
END:DAYLIGHT
BEGIN:STANDARD
TZOFFSETFROM:-0500
TZOFFSETTO:-0600
TZNAME:CST
DTSTART:20261101T070000
END:STANDARD
BEGIN:DAYLIGHT
TZOFFSETFROM:-0600
TZOFFSETTO:-0500
TZNAME:CDT
DTSTART:20270314T080000
END:DAYLIGHT
BEGIN:STANDARD
TZOFFSETFROM:-0500
TZOFFSETTO:-0600
TZNAME:CST
DTSTART:20271107T070000
END:STANDARD
END:VTIMEZONE
BEGIN:VEVENT
DTSTART;TZID=America/Chicago:20260301T153000
DTEND;TZID=America/Chicago:20260301T180000
DTSTAMP:20260422T080106
CREATED:20251205T164107Z
LAST-MODIFIED:20260210T184428Z
UID:3637-1772379000-1772388000@gaiacommunity.org
SUMMARY:Forum: Where Are You on Your Spiritual Path
DESCRIPTION:Join us as we discuss our personal spiritual paths – where did\nyou start? What choices have you made? What twists have\nturns have brought you here? Where are you now? Where do\nyou want to go next? \nJoin Zoom Meeting\nhttps://us02web.zoom.us/j/86761563462?pwd=2m3QMJlztyymnGVVgKgV927NbrtARg.1 \n 
URL:https://gaiacommunity.org/event/forum-where-are-you-on-your-spiritual-path/
LOCATION:Shawnee Mission UU Church\, 94000 Pflumm Rd.\, Lenexa\, KS\, 66215\, United States
END:VEVENT
BEGIN:VEVENT
DTSTART;TZID=America/Chicago:20260305T190000
DTEND;TZID=America/Chicago:20260305T210000
DTSTAMP:20260422T080106
CREATED:20260203T020825Z
LAST-MODIFIED:20260224T222402Z
UID:3677-1772737200-1772744400@gaiacommunity.org
SUMMARY:Ritual Team Meeting
DESCRIPTION:Our monthly meeting for the team that organizes our Sunday services. Anyone may attend. \nJoin Zoom Meeting\nhttps://us02web.zoom.us/j/4449994327
URL:https://gaiacommunity.org/event/ritual-team-meeting-7/
LOCATION:Zoom
END:VEVENT
BEGIN:VEVENT
DTSTART;TZID=America/Chicago:20260308T153000
DTEND;TZID=America/Chicago:20260308T180000
DTSTAMP:20260422T080106
CREATED:20260203T014101Z
LAST-MODIFIED:20260210T184754Z
UID:3666-1772983800-1772992800@gaiacommunity.org
SUMMARY:Ritual: Carrying the Ship of Fortune
DESCRIPTION:The ancient Roman holiday\, Navigium Isidis\, launched the sailing season\, asking Isis for blessings of prosperity\, safe travel\, and safe harbor for all for the\ncoming year. Join us as we create our “floats” to launch our hopes in this\nfestival that was an ancestor of Carnival. \nJoin Zoom Meeting\nhttps://us02web.zoom.us/j/81252524937?pwd=N20v3xNw5qnDAHuhV2vVmwhIKYANkm.1 \n 
URL:https://gaiacommunity.org/event/ritual-carrying-the-ship-of-fortune/
LOCATION:Shawnee Mission UU Church\, 94000 Pflumm Rd.\, Lenexa\, KS\, 66215\, United States
END:VEVENT
BEGIN:VEVENT
DTSTART;TZID=America/Chicago:20260310T190000
DTEND;TZID=America/Chicago:20260310T193000
DTSTAMP:20260422T080106
CREATED:20260203T030138Z
LAST-MODIFIED:20260203T030138Z
UID:3699-1773169200-1773171000@gaiacommunity.org
SUMMARY:Social Justice Meeting
DESCRIPTION:Social Justice meets to discuss possible service projects. We meet online only \nJoin Zoom Meeting\nhttps://us02web.zoom.us/j/89256215132?pwd=FR564R3EuBeZjJXdIiJS0vB6GKLtQC.1
URL:https://gaiacommunity.org/event/social-justice-meeting-14/
LOCATION:KS
END:VEVENT
BEGIN:VEVENT
DTSTART;TZID=America/Chicago:20260315T153000
DTEND;TZID=America/Chicago:20260315T180000
DTSTAMP:20260422T080106
CREATED:20260203T014755Z
LAST-MODIFIED:20260315T180649Z
UID:3668-1773588600-1773597600@gaiacommunity.org
SUMMARY:Patron Selection Festival Forum
DESCRIPTION:Each year Gaia Community chooses a patron for the year. The process\nbegins with this forum where those present review and discern the needs of\nour community and then suggest powers who might serve those needs.\nCome be part of this important process! \nTHIS EVENT IS ONLINE ONLY DUE TO INCLEMENT WEATHER: \nJoin Zoom Meeting\nhttps://us02web.zoom.us/j/89571709746?pwd=1h5E1elCMh2Kx8adVbcarv2W14hiYg.1 \n 
URL:https://gaiacommunity.org/event/forum-patron-nominations/
LOCATION:Shawnee Mission UU Church\, 94000 Pflumm Rd.\, Lenexa\, KS\, 66215\, United States
END:VEVENT
BEGIN:VEVENT
DTSTART;TZID=America/Chicago:20260321T100000
DTEND;TZID=America/Chicago:20260321T120000
DTSTAMP:20260422T080106
CREATED:20260204T223436Z
LAST-MODIFIED:20260204T223436Z
UID:3703-1774087200-1774094400@gaiacommunity.org
SUMMARY:Ritual for Business
DESCRIPTION:Our congregation’s monthly business meeting. Anyone may attend\, but only full active members may participate in the consensus process. \nJoin Zoom Meeting\nhttps://us02web.zoom.us/j/85491815372?pwd=eI3Chx89JoXbawlbGQJtsnUwUyi9lb.1
URL:https://gaiacommunity.org/event/ritual-for-business-14/
LOCATION:Zoom
END:VEVENT
BEGIN:VEVENT
DTSTART;TZID=America/Chicago:20260322T153000
DTEND;TZID=America/Chicago:20260322T180000
DTSTAMP:20260422T080106
CREATED:20260203T015804Z
LAST-MODIFIED:20260313T004644Z
UID:3673-1774193400-1774202400@gaiacommunity.org
SUMMARY:High Holiday: Spring Equinox
DESCRIPTION:For Spring Equinox\, we will be setting goals\, planting both seeds and intentions for the Spring season. If you have seeds you want to bring to be planted in company\, please bring them  After the ritual\, we will then take them home to cherish before planting in our own gardens or someplace near that you can watch over. We will honor both Ganesha and Persephone during this time\, and of course\, our patron Hecate. Please bring your choice of divinatory tools\, and journaling materials. \nFor our Zoom participants\, you might want to have cardboard egg cartons or empty TP rolls for planting\, some potting soil and/or mulch\, seeds\, and your divinatory choice and a journal. We will be having cakes and ale at the end so you might want to plan on a treat for yourself. We will celebrate the beginning of Spring! \nJoin Zoom Meeting\nhttps://us02web.zoom.us/j/83899677573?pwd=qG0TnZj4nouSrBoPzVRDdXiLI5GM8b.1 \n 
URL:https://gaiacommunity.org/event/high-holiday-spring-equinox/
LOCATION:Shawnee Mission UU Church\, 94000 Pflumm Rd.\, Lenexa\, KS\, 66215\, United States
END:VEVENT
BEGIN:VEVENT
DTSTART;TZID=America/Chicago:20260329T153000
DTEND;TZID=America/Chicago:20260329T180000
DTSTAMP:20260422T080106
CREATED:20260203T020435Z
LAST-MODIFIED:20260318T211314Z
UID:3675-1774798200-1774807200@gaiacommunity.org
SUMMARY:Ritual: City Dionysia
DESCRIPTION:For the Greeks\, Dionysos represented many things\, among them wine\, theatre\, madness\, healing\, joy\, and the wild\, unstoppable life force that flows in every living being. In this celebration\, we honor the wild god with joy and catharsis\, reaching for the power to overcome forces that seek to restrain\, dishearten\, and oppress us and move towards liberation. \nJoin Zoom Meeting\nhttps://us02web.zoom.us/j/86137691780?pwd=civC0dvRnFokLOkE2Ag0V6G6FaDKUy.1 \n 
URL:https://gaiacommunity.org/event/ritual-city-dionysia-new-member-sunday/
LOCATION:Shawnee Mission UU Church\, 94000 Pflumm Rd.\, Lenexa\, KS\, 66215\, United States
END:VEVENT
END:VCALENDAR