BEGIN:VCALENDAR
VERSION:2.0
PRODID:-//Gaia Community - ECPv6.15.20//NONSGML v1.0//EN
CALSCALE:GREGORIAN
METHOD:PUBLISH
X-ORIGINAL-URL:https://gaiacommunity.org
X-WR-CALDESC:Events for Gaia Community
REFRESH-INTERVAL;VALUE=DURATION:PT1H
X-Robots-Tag:noindex
X-PUBLISHED-TTL:PT1H
BEGIN:VTIMEZONE
TZID:America/Chicago
BEGIN:DAYLIGHT
TZOFFSETFROM:-0600
TZOFFSETTO:-0500
TZNAME:CDT
DTSTART:20250309T080000
END:DAYLIGHT
BEGIN:STANDARD
TZOFFSETFROM:-0500
TZOFFSETTO:-0600
TZNAME:CST
DTSTART:20251102T070000
END:STANDARD
BEGIN:DAYLIGHT
TZOFFSETFROM:-0600
TZOFFSETTO:-0500
TZNAME:CDT
DTSTART:20260308T080000
END:DAYLIGHT
BEGIN:STANDARD
TZOFFSETFROM:-0500
TZOFFSETTO:-0600
TZNAME:CST
DTSTART:20261101T070000
END:STANDARD
BEGIN:DAYLIGHT
TZOFFSETFROM:-0600
TZOFFSETTO:-0500
TZNAME:CDT
DTSTART:20270314T080000
END:DAYLIGHT
BEGIN:STANDARD
TZOFFSETFROM:-0500
TZOFFSETTO:-0600
TZNAME:CST
DTSTART:20271107T070000
END:STANDARD
END:VTIMEZONE
BEGIN:VEVENT
DTSTART;TZID=America/Chicago:20260426T153000
DTEND;TZID=America/Chicago:20260426T190000
DTSTAMP:20260422T062759
CREATED:20260307T235304Z
LAST-MODIFIED:20260421T012817Z
UID:3731-1777217400-1777230000@gaiacommunity.org
SUMMARY:High Holiday: Beltane
DESCRIPTION:  \nDoes it seem like somehow the world has gotten on the wrong timeline?  Let’s use the energy of Spring and Beltaine to re-establish the proper order of things and re-create the world we want to see.  Come celebrate the height of Spring\, dance the Maypole and weave together our community in solidarity and joy.  Today will also include a potluck.  Bring a dish to serve 8 and your own table service.\n\nFor those joining us online:  Link to Zoom Meeting \nhttps://us02web.zoom.us/j/81027123540?pwd=sb1hbL5aWZ9w1CVZmurnISzkSGwdJN.1 \nMaterials you may want to have:  a 12-18” piece of 1-1 ½” ribbon\, a sharpie\, a chalice\, candles for the May Queen and the Green Man. \nChant we’ll be using in ritual: \nPowerful song of a radiant light \nWeave us the web that spins the night \nWeb of stars that holds the dark \nWeave us the Earth that feeds the spark. \nYou can listen to the chant here:  https://www.youtube.com/watch?v=yiw_hR2CC3Q\, starting at 1:00 in.
URL:https://gaiacommunity.org/event/high-holiday-beltane-3/
LOCATION:Shawnee Mission UU Church\, 94000 Pflumm Rd.\, Lenexa\, KS\, 66215\, United States
END:VEVENT
END:VCALENDAR